BEGIN:VCALENDAR
VERSION:2.0
PRODID:SchoolNow
CALSCALE:GREGORIAN
BEGIN:VEVENT
UID:cb65b0fa-97d5-11f0-9232-0affd059ea83
DTSTAMP:20250922T170134Z
SUMMARY:Safety Committee Meeting - Sept. 2026
LOCATION:Waterlefe Golf Club - Community Room\, located at 1022 Fish Hook C
 ove Bradenton\, FL 34212 United States
URL;VALUE=URI:https://www.waterlefecdd.org/calendar/8653148/safety-committe
 e-meeting-sept-2026
DTSTART:20260908T140000Z
DTEND:20260908T160000Z
END:VEVENT
END:VCALENDAR
