BEGIN:VCALENDAR
VERSION:2.0
PRODID:SchoolNow
CALSCALE:GREGORIAN
BEGIN:VEVENT
UID:b6f05ec2-97d5-11f0-9275-0a58a9feac02
DTSTAMP:20250922T170100Z
SUMMARY:Safety Committee Meeting - Jul. 2026
LOCATION:Waterlefe Golf Club - Community Room\, located at 1022 Fish Hook C
 ove Bradenton\, FL 34212 United States
URL;VALUE=URI:https://www.waterlefecdd.org/calendar/8653147/safety-committe
 e-meeting-jul-2026
DTSTART:20260714T140000Z
DTEND:20260714T160000Z
END:VEVENT
END:VCALENDAR
