BEGIN:VCALENDAR
VERSION:2.0
PRODID:SchoolNow
CALSCALE:GREGORIAN
BEGIN:VEVENT
UID:6ea97a22-97d5-11f0-8c79-0affe8c34af9
DTSTAMP:20250922T165858Z
SUMMARY:Golf Committee Meeting - Sept. 2026
LOCATION:Waterlefe Golf Club - Community Room\, located at 1022 Fish Hook C
 ove Bradenton\, FL 34212 United States
URL;VALUE=URI:https://www.waterlefecdd.org/calendar/8653142/golf-committee-
 meeting-sept-2026
DTSTART:20260917T160000Z
DTEND:20260917T180000Z
END:VEVENT
END:VCALENDAR
