BEGIN:VCALENDAR
VERSION:2.0
PRODID:SchoolNow
CALSCALE:GREGORIAN
BEGIN:VEVENT
UID:64d11564-97d5-11f0-8ae6-0a58a9feac02
DTSTAMP:20250922T165842Z
SUMMARY:Golf Committee Meeting - Aug. 2026
LOCATION:Waterlefe Golf Club - Community Room\, located at 1022 Fish Hook C
 ove Bradenton\, FL 34212 United States
URL;VALUE=URI:https://www.waterlefecdd.org/calendar/8653141/golf-committee-
 meeting-aug-2026
DTSTART:20260813T160000Z
DTEND:20260813T180000Z
END:VEVENT
END:VCALENDAR
