BEGIN:VCALENDAR
VERSION:2.0
PRODID:SchoolNow
CALSCALE:GREGORIAN
BEGIN:VEVENT
UID:5ba18762-97d5-11f0-ae0f-0affd059ea83
DTSTAMP:20250922T165826Z
SUMMARY:Golf Committee Meeting - Jul. 2026
LOCATION:Waterlefe Golf Club - Community Room\, located at 1022 Fish Hook C
 ove Bradenton\, FL 34212 United States
URL;VALUE=URI:https://www.waterlefecdd.org/calendar/8653140/golf-committee-
 meeting-jul-2026
DTSTART:20260716T160000Z
DTEND:20260716T180000Z
END:VEVENT
END:VCALENDAR
