BEGIN:VCALENDAR
VERSION:2.0
PRODID:SchoolNow
CALSCALE:GREGORIAN
BEGIN:VEVENT
UID:f4b6d82c-97d4-11f0-b2ca-0e5840398e91
DTSTAMP:20250922T165534Z
SUMMARY:House Committee Meeting - Sept. 2026
LOCATION:Waterlefe Golf Club - Community Room\, located at 1022 Fish Hook C
 ove Bradenton\, FL 34212 United States
URL;VALUE=URI:https://www.waterlefecdd.org/calendar/8653117/house-committee
 -meeting-sept-2026
DTSTART:20260916T180000Z
DTEND:20260916T200000Z
END:VEVENT
END:VCALENDAR
