BEGIN:VCALENDAR
VERSION:2.0
PRODID:SchoolNow
CALSCALE:GREGORIAN
BEGIN:VEVENT
UID:ebe6c18a-97d4-11f0-80a1-0a58a9feac02
DTSTAMP:20250922T165519Z
SUMMARY:House Committee Meeting - Aug. 2026
LOCATION:Waterlefe Golf Club - Community Room\, located at 1022 Fish Hook C
 ove Bradenton\, FL 34212 United States
URL;VALUE=URI:https://www.waterlefecdd.org/calendar/8653116/house-committee
 -meeting-aug-2026
DTSTART:20260812T180000Z
DTEND:20260812T200000Z
END:VEVENT
END:VCALENDAR
