BEGIN:VCALENDAR
VERSION:2.0
PRODID:SchoolNow
CALSCALE:GREGORIAN
BEGIN:VEVENT
UID:e32d0ba8-97d4-11f0-8cf2-0e5840398e91
DTSTAMP:20250922T165504Z
SUMMARY:House Committee Meeting - Jul. 2026
LOCATION:Waterlefe Golf Club - Community Room\, located at 1022 Fish Hook C
 ove Bradenton\, FL 34212 United States
URL;VALUE=URI:https://www.waterlefecdd.org/calendar/8653115/house-committee
 -meeting-jul-2026
DTSTART:20260715T180000Z
DTEND:20260715T200000Z
END:VEVENT
END:VCALENDAR
