BEGIN:VCALENDAR
VERSION:2.0
PRODID:SchoolNow
CALSCALE:GREGORIAN
BEGIN:VEVENT
UID:7b60bb28-97d4-11f0-851d-0e2a0f17729d
DTSTAMP:20250922T165210Z
SUMMARY:Landscape Committee Meeting - Sept. 2026
LOCATION:Waterlefe Golf Club - Community Room\, located at 1022 Fish Hook C
 ove Bradenton\, FL 34212 United States
URL;VALUE=URI:https://www.waterlefecdd.org/calendar/8653103/landscape-commi
 ttee-meeting-sept-2026
DTSTART:20260914T170000Z
DTEND:20260914T190000Z
END:VEVENT
END:VCALENDAR
