BEGIN:VCALENDAR
VERSION:2.0
PRODID:SchoolNow
CALSCALE:GREGORIAN
BEGIN:VEVENT
UID:6f6e6ae0-97d4-11f0-8361-0a58a9feac02
DTSTAMP:20250922T165150Z
SUMMARY:Landscape Committee Meeting - Aug. 2026
LOCATION:Waterlefe Golf Club - Community Room\, located at 1022 Fish Hook C
 ove Bradenton\, FL 34212 United States
URL;VALUE=URI:https://www.waterlefecdd.org/calendar/8653102/landscape-commi
 ttee-meeting-aug-2026
DTSTART:20260803T170000Z
DTEND:20260803T190000Z
END:VEVENT
END:VCALENDAR
