BEGIN:VCALENDAR
VERSION:2.0
PRODID:SchoolNow
CALSCALE:GREGORIAN
BEGIN:VEVENT
UID:66d1f5fa-97d4-11f0-b667-0249ca2493a5
DTSTAMP:20250922T165136Z
SUMMARY:Landscape Committee Meeting - Jul. 2026
LOCATION:Waterlefe Golf Club - Community Room\, located at 1022 Fish Hook C
 ove Bradenton\, FL 34212 United States
URL;VALUE=URI:https://www.waterlefecdd.org/calendar/8653101/landscape-commi
 ttee-meeting-jul-2026
DTSTART:20260706T170000Z
DTEND:20260706T190000Z
END:VEVENT
END:VCALENDAR
