BEGIN:VCALENDAR
VERSION:2.0
PRODID:SchoolNow
CALSCALE:GREGORIAN
BEGIN:VEVENT
UID:add8cfd0-97d1-11f0-873d-0a58a9feac02
DTSTAMP:20250922T163206Z
SUMMARY:CDD Board Meeting - Sept. 2026
LOCATION:Waterlefe Golf Club - Community Room\, located at 1022 Fish Hook C
 ove Bradenton\, FL 34212 United StatesFish Hook Cove Bradenton\, FL 34212 
 United States
URL;VALUE=URI:https://www.waterlefecdd.org/calendar/8653089/cdd-board-meeti
 ng-sept-2026
DTSTART:20260921T180000Z
DTEND:20260921T200000Z
END:VEVENT
END:VCALENDAR
