BEGIN:VCALENDAR
VERSION:2.0
PRODID:SchoolNow
CALSCALE:GREGORIAN
BEGIN:VEVENT
UID:a4f826b8-97d1-11f0-ba32-0a58a9feac02
DTSTAMP:20250922T163152Z
SUMMARY:CDD Board Meeting - Aug. 2026
LOCATION:Waterlefe Golf Club - Community Room\, located at 1022 Fish Hook C
 ove Bradenton\, FL 34212 United StatesFish Hook Cove Bradenton\, FL 34212 
 United States
URL;VALUE=URI:https://www.waterlefecdd.org/calendar/8653088/cdd-board-meeti
 ng-aug-2026
DTSTART:20260817T180000Z
DTEND:20260817T200000Z
END:VEVENT
END:VCALENDAR
