BEGIN:VCALENDAR
VERSION:2.0
PRODID:SchoolNow
CALSCALE:GREGORIAN
BEGIN:VEVENT
UID:9c51afc0-97d1-11f0-8d28-0a58a9feac02
DTSTAMP:20250922T163137Z
SUMMARY:CDD Board Meeting - Jul. 2026
LOCATION:Waterlefe Golf Club - Community Room\, located at 1022 Fish Hook C
 ove Bradenton\, FL 34212 United StatesFish Hook Cove Bradenton\, FL 34212 
 United States
URL;VALUE=URI:https://www.waterlefecdd.org/calendar/8653087/cdd-board-meeti
 ng-jul-2026
DTSTART:20260720T180000Z
DTEND:20260720T200000Z
END:VEVENT
END:VCALENDAR
