BEGIN:VCALENDAR
VERSION:2.0
PRODID:SchoolNow
CALSCALE:GREGORIAN
BEGIN:VEVENT
UID:7a26c58e-97d1-11f0-b44e-0a58a9feac02
DTSTAMP:20260417T175837Z
SUMMARY:CDD Board Meeting - Apr. 2026
LOCATION:Waterlefe Golf Club - Community Room\, located at 1022 Fish Hook C
 ove Bradenton\, FL 34212 United StatesFish Hook Cove Bradenton\, FL 34212 
 United States
URL;VALUE=URI:https://www.waterlefecdd.org/calendar/8653084/cdd-board-meeti
 ng-apr-2026
DTSTART:20260420T180000Z
DTEND:20260420T200000Z
ATTACH;FILENAME=2026-04-20- Waterlefe CDD - Revised Final Agenda.pdf;FMTTYP
 E=application/pdf:https://campussuite-storage.s3.amazonaws.com/prod/155888
 6/559eed4e-ea9a-11e9-b674-0a31933f87ea/3090629/072ba7a8-3a87-11f1-bc18-0a5
 8a9feac02/file/2026-04-20- Waterlefe CDD - Revised Final Agenda.pdf
END:VEVENT
END:VCALENDAR
