BEGIN:VCALENDAR
VERSION:2.0
PRODID:SchoolNow
CALSCALE:GREGORIAN
BEGIN:VEVENT
UID:7095c5a6-97d1-11f0-8ce2-0affd059ea83
DTSTAMP:20260407T094818Z
SUMMARY:Budget Workshop  - Apr. 2026
LOCATION:Waterlefe Golf Club - Community Room\, located at 1022 Fish Hook C
 ove Bradenton\, FL 34212 United StatesFish Hook Cove Bradenton\, FL 34212 
 United States
URL;VALUE=URI:https://www.waterlefecdd.org/calendar/8653083/budget-workshop
 -apr-2026
DTSTART:20260413T180000Z
DTEND:20260413T200000Z
ATTACH;FILENAME=2026-04-13- Waterlefe CDD -Revised Final Agenda.pdf;FMTTYPE
 =application/pdf:https://campussuite-storage.s3.amazonaws.com/prod/1558886
 /559eed4e-ea9a-11e9-b674-0a31933f87ea/3087108/e31e6800-3266-11f1-8bd9-0aff
 f900871d/file/2026-04-13- Waterlefe CDD -Revised Final Agenda.pdf
END:VEVENT
END:VCALENDAR
